Package: biodbNci Version: 1.2.0 Command: /Library/Frameworks/R.framework/Resources/bin/R CMD build --keep-empty-dirs --no-resave-data biodbNci StartedAt: 2023-04-16 21:56:38 -0400 (Sun, 16 Apr 2023) EndedAt: 2023-04-16 21:57:17 -0400 (Sun, 16 Apr 2023) EllapsedTime: 39.6 seconds RetCode: 0 Status: OK PackageFile: biodbNci_1.2.0.tar.gz PackageFileSize: 296.8 KiB