Package: biomformat Version: 1.26.0 Command: /Library/Frameworks/R.framework/Resources/bin/R CMD INSTALL biomformat StartedAt: 2023-04-16 14:26:37 -0400 (Sun, 16 Apr 2023) EndedAt: 2023-04-16 14:26:49 -0400 (Sun, 16 Apr 2023) EllapsedTime: 11.7 seconds RetCode: 0 Status: OK