git_url: https://git.bioconductor.org/packages/biosigner
git_branch: RELEASE_3_16
git_last_commit: 17c649e
git_last_commit_date: 2022-11-01 11:13:04 -0400 (Tue, 01 Nov 2022)
Package: biosigner
Version: 1.26.0
Maintainer: Etienne A. Thevenot
MaintainerEmail: etienne.thevenot at cea.fr