Package: biotmle Version: 1.22.0 Command: /Library/Frameworks/R.framework/Resources/bin/R CMD build --keep-empty-dirs --no-resave-data biotmle StartedAt: 2023-04-16 22:10:37 -0400 (Sun, 16 Apr 2023) EndedAt: 2023-04-16 22:11:49 -0400 (Sun, 16 Apr 2023) EllapsedTime: 71.7 seconds RetCode: 0 Status: OK PackageFile: biotmle_1.22.0.tar.gz PackageFileSize: 313.5 KiB