Package: biscuiteer Version: 1.12.0 Command: rm -rf biscuiteer.buildbin-libdir && mkdir biscuiteer.buildbin-libdir && /Users/biocbuild/BBS/utils/build-universal.sh biscuiteer_1.12.0.tar.gz /Library/Frameworks/R.framework/Resources/bin/R biscuiteer.buildbin-libdir StartedAt: 2023-04-18 14:01:54 -0400 (Tue, 18 Apr 2023) EndedAt: 2023-04-18 14:04:54 -0400 (Tue, 18 Apr 2023) EllapsedTime: 180.6 seconds RetCode: 0 Status: OK PackageFile: biscuiteer_1.12.0.tgz PackageFileSize: 5.163 MiB