Package: biscuiteer Version: 1.12.0 Command: /Library/Frameworks/R.framework/Resources/bin/R CMD build --keep-empty-dirs --no-resave-data biscuiteer StartedAt: 2023-04-16 22:13:01 -0400 (Sun, 16 Apr 2023) EndedAt: 2023-04-16 22:14:53 -0400 (Sun, 16 Apr 2023) EllapsedTime: 111.5 seconds RetCode: 0 Status: OK PackageFile: biscuiteer_1.12.0.tar.gz PackageFileSize: 4.746 MiB