Package: bnem Version: 1.6.0 Command: rm -rf bnem.buildbin-libdir && mkdir bnem.buildbin-libdir && /Users/biocbuild/BBS/utils/build-universal.sh bnem_1.6.0.tar.gz /Library/Frameworks/R.framework/Resources/bin/R bnem.buildbin-libdir StartedAt: 2023-04-18 14:03:48 -0400 (Tue, 18 Apr 2023) EndedAt: 2023-04-18 14:05:31 -0400 (Tue, 18 Apr 2023) EllapsedTime: 103.1 seconds RetCode: 0 Status: OK PackageFile: bnem_1.6.0.tgz PackageFileSize: 1.809 MiB