Package: bnem Version: 1.6.0 Command: /Library/Frameworks/R.framework/Resources/bin/R CMD build --keep-empty-dirs --no-resave-data bnem StartedAt: 2023-04-16 22:25:09 -0400 (Sun, 16 Apr 2023) EndedAt: 2023-04-16 22:26:27 -0400 (Sun, 16 Apr 2023) EllapsedTime: 78.2 seconds RetCode: 0 Status: OK PackageFile: bnem_1.6.0.tar.gz PackageFileSize: 1.536 MiB