Package: bnem Version: 1.6.0 Command: /Library/Frameworks/R.framework/Resources/bin/R CMD INSTALL bnem StartedAt: 2023-04-16 18:54:23 -0400 (Sun, 16 Apr 2023) EndedAt: 2023-04-16 18:55:16 -0400 (Sun, 16 Apr 2023) EllapsedTime: 53.5 seconds RetCode: 0 Status: OK