Package: borealis Version: 1.2.2 Command: rm -rf borealis.buildbin-libdir && mkdir borealis.buildbin-libdir && /Users/biocbuild/BBS/utils/build-universal.sh borealis_1.2.2.tar.gz /Library/Frameworks/R.framework/Resources/bin/R borealis.buildbin-libdir StartedAt: 2023-04-18 14:04:51 -0400 (Tue, 18 Apr 2023) EndedAt: 2023-04-18 14:06:38 -0400 (Tue, 18 Apr 2023) EllapsedTime: 106.9 seconds RetCode: 0 Status: OK PackageFile: borealis_1.2.2.tgz PackageFileSize: 448.1 KiB