Package: borealis Version: 1.2.2 Command: /Library/Frameworks/R.framework/Resources/bin/R CMD build --keep-empty-dirs --no-resave-data borealis StartedAt: 2023-04-16 22:26:27 -0400 (Sun, 16 Apr 2023) EndedAt: 2023-04-16 22:28:32 -0400 (Sun, 16 Apr 2023) EllapsedTime: 125.1 seconds RetCode: 0 Status: OK PackageFile: borealis_1.2.2.tar.gz PackageFileSize: 404.5 KiB