Package: canceR Version: 1.32.0 Command: rm -rf canceR.buildbin-libdir && mkdir canceR.buildbin-libdir && /Users/biocbuild/BBS/utils/build-universal.sh canceR_1.32.0.tar.gz /Library/Frameworks/R.framework/Resources/bin/R canceR.buildbin-libdir StartedAt: 2023-04-18 14:12:23 -0400 (Tue, 18 Apr 2023) EndedAt: 2023-04-18 14:35:11 -0400 (Tue, 18 Apr 2023) EllapsedTime: 1368.5 seconds RetCode: 0 Status: OK PackageFile: canceR_1.32.0.tgz PackageFileSize: 14.02 MiB