Package: cardelino Version: 1.0.0 Command: /Library/Frameworks/R.framework/Resources/bin/R CMD INSTALL cardelino StartedAt: 2023-04-16 16:55:36 -0400 (Sun, 16 Apr 2023) EndedAt: 2023-04-16 16:56:59 -0400 (Sun, 16 Apr 2023) EllapsedTime: 82.4 seconds RetCode: 0 Status: OK