Package: cbpManager Version: 1.6.0 Command: /Library/Frameworks/R.framework/Resources/bin/R CMD build --keep-empty-dirs --no-resave-data cbpManager StartedAt: 2023-04-16 23:04:14 -0400 (Sun, 16 Apr 2023) EndedAt: 2023-04-16 23:04:31 -0400 (Sun, 16 Apr 2023) EllapsedTime: 16.7 seconds RetCode: 0 Status: OK PackageFile: cbpManager_1.6.0.tar.gz PackageFileSize: 4.044 MiB