Package: celaref Version: 1.16.0 Command: /Library/Frameworks/R.framework/Resources/bin/R CMD build --keep-empty-dirs --no-resave-data celaref StartedAt: 2023-04-16 23:10:38 -0400 (Sun, 16 Apr 2023) EndedAt: 2023-04-16 23:14:37 -0400 (Sun, 16 Apr 2023) EllapsedTime: 239.3 seconds RetCode: 0 Status: OK PackageFile: celaref_1.16.0.tar.gz PackageFileSize: 2.525 MiB