Package: cellbaseR Version: 1.22.0 Command: /Library/Frameworks/R.framework/Resources/bin/R CMD build --keep-empty-dirs --no-resave-data cellbaseR StartedAt: 2023-04-16 23:16:57 -0400 (Sun, 16 Apr 2023) EndedAt: 2023-04-16 23:17:48 -0400 (Sun, 16 Apr 2023) EllapsedTime: 51.6 seconds RetCode: 0 Status: OK PackageFile: cellbaseR_1.22.0.tar.gz PackageFileSize: 477.3 KiB