Package: cellscape Version: 1.22.0 Command: rm -rf cellscape.buildbin-libdir && mkdir cellscape.buildbin-libdir && /Users/biocbuild/BBS/utils/build-universal.sh cellscape_1.22.0.tar.gz /Library/Frameworks/R.framework/Resources/bin/R cellscape.buildbin-libdir StartedAt: 2023-04-18 14:19:18 -0400 (Tue, 18 Apr 2023) EndedAt: 2023-04-18 14:19:28 -0400 (Tue, 18 Apr 2023) EllapsedTime: 9.7 seconds RetCode: 0 Status: OK PackageFile: cellscape_1.22.0.tgz PackageFileSize: 885.7 KiB