Package: cellscape Version: 1.22.0 Command: /Library/Frameworks/R.framework/Resources/bin/R CMD build --keep-empty-dirs --no-resave-data cellscape StartedAt: 2023-04-16 23:30:13 -0400 (Sun, 16 Apr 2023) EndedAt: 2023-04-16 23:30:48 -0400 (Sun, 16 Apr 2023) EllapsedTime: 34.5 seconds RetCode: 0 Status: OK PackageFile: cellscape_1.22.0.tar.gz PackageFileSize: 1.097 MiB