Package: chipenrich
Version: 2.22.0
Command: /Library/Frameworks/R.framework/Resources/bin/R CMD build --keep-empty-dirs --no-resave-data chipenrich
StartedAt: 2023-04-16 23:53:26 -0400 (Sun, 16 Apr 2023)
EndedAt: 2023-04-16 23:55:10 -0400 (Sun, 16 Apr 2023)
EllapsedTime: 103.7 seconds
RetCode: 0
Status: OK
PackageFile: chipenrich_2.22.0.tar.gz
PackageFileSize: 619.7 <A href="http://en.wikipedia.org/wiki/KiB" target="_blank">KiB</A>