Package: clipper Version: 1.38.0 Command: /Library/Frameworks/R.framework/Resources/bin/R CMD INSTALL clipper StartedAt: 2023-04-16 17:27:59 -0400 (Sun, 16 Apr 2023) EndedAt: 2023-04-16 17:28:57 -0400 (Sun, 16 Apr 2023) EllapsedTime: 58.5 seconds RetCode: 0 Status: OK