Package: clusterProfiler Version: 4.6.2 Command: rm -rf clusterProfiler.buildbin-libdir && mkdir clusterProfiler.buildbin-libdir && /Users/biocbuild/BBS/utils/build-universal.sh clusterProfiler_4.6.2.tar.gz /Library/Frameworks/R.framework/Resources/bin/R clusterProfiler.buildbin-libdir StartedAt: 2023-04-18 14:35:18 -0400 (Tue, 18 Apr 2023) EndedAt: 2023-04-18 14:36:28 -0400 (Tue, 18 Apr 2023) EllapsedTime: 70.0 seconds RetCode: 0 Status: OK PackageFile: clusterProfiler_4.6.2.tgz PackageFileSize: 832.9 KiB