Package: clusterProfiler Version: 4.6.2 Command: /Library/Frameworks/R.framework/Resources/bin/R CMD INSTALL clusterProfiler StartedAt: 2023-04-16 16:02:01 -0400 (Sun, 16 Apr 2023) EndedAt: 2023-04-16 16:02:46 -0400 (Sun, 16 Apr 2023) EllapsedTime: 44.9 seconds RetCode: 0 Status: OK