Package: cmapR Version: 1.10.0 Command: rm -rf cmapR.buildbin-libdir && mkdir cmapR.buildbin-libdir && /Users/biocbuild/BBS/utils/build-universal.sh cmapR_1.10.0.tar.gz /Library/Frameworks/R.framework/Resources/bin/R cmapR.buildbin-libdir StartedAt: 2023-04-18 14:36:28 -0400 (Tue, 18 Apr 2023) EndedAt: 2023-04-18 14:37:34 -0400 (Tue, 18 Apr 2023) EllapsedTime: 65.5 seconds RetCode: 0 Status: OK PackageFile: cmapR_1.10.0.tgz PackageFileSize: 4.003 MiB