Package: coMethDMR Version: 1.2.0 Command: rm -rf coMethDMR.buildbin-libdir && mkdir coMethDMR.buildbin-libdir && /Users/biocbuild/BBS/utils/build-universal.sh coMethDMR_1.2.0.tar.gz /Library/Frameworks/R.framework/Resources/bin/R coMethDMR.buildbin-libdir StartedAt: 2023-04-18 14:42:32 -0400 (Tue, 18 Apr 2023) EndedAt: 2023-04-18 14:44:21 -0400 (Tue, 18 Apr 2023) EllapsedTime: 109.4 seconds RetCode: 0 Status: OK PackageFile: coMethDMR_1.2.0.tgz PackageFileSize: 3.164 MiB