Package: coMethDMR Version: 1.2.0 Command: /Library/Frameworks/R.framework/Resources/bin/R CMD build --keep-empty-dirs --no-resave-data coMethDMR StartedAt: 2023-04-17 01:10:40 -0400 (Mon, 17 Apr 2023) EndedAt: 2023-04-17 01:15:37 -0400 (Mon, 17 Apr 2023) EllapsedTime: 297.9 seconds RetCode: 0 Status: OK PackageFile: coMethDMR_1.2.0.tar.gz PackageFileSize: 3.095 MiB