Package: coMethDMR Version: 1.2.0 Command: /Library/Frameworks/R.framework/Resources/bin/R CMD INSTALL coMethDMR StartedAt: 2023-04-16 16:26:31 -0400 (Sun, 16 Apr 2023) EndedAt: 2023-04-16 16:27:40 -0400 (Sun, 16 Apr 2023) EllapsedTime: 69.4 seconds RetCode: 0 Status: OK