Package: coRdon Version: 1.16.0 Command: rm -rf coRdon.buildbin-libdir && mkdir coRdon.buildbin-libdir && /Users/biocbuild/BBS/utils/build-universal.sh coRdon_1.16.0.tar.gz /Library/Frameworks/R.framework/Resources/bin/R coRdon.buildbin-libdir StartedAt: 2023-04-18 14:47:08 -0400 (Tue, 18 Apr 2023) EndedAt: 2023-04-18 14:47:59 -0400 (Tue, 18 Apr 2023) EllapsedTime: 51.1 seconds RetCode: 0 Status: OK PackageFile: coRdon_1.16.0.tgz PackageFileSize: 2.53 MiB