Package: cogeqc Version: 1.2.1 Command: rm -rf cogeqc.buildbin-libdir && mkdir cogeqc.buildbin-libdir && /Users/biocbuild/BBS/utils/build-universal.sh cogeqc_1.2.1.tar.gz /Library/Frameworks/R.framework/Resources/bin/R cogeqc.buildbin-libdir StartedAt: 2023-04-18 14:40:46 -0400 (Tue, 18 Apr 2023) EndedAt: 2023-04-18 14:41:25 -0400 (Tue, 18 Apr 2023) EllapsedTime: 39.3 seconds RetCode: 0 Status: OK PackageFile: cogeqc_1.2.1.tgz PackageFileSize: 2.575 MiB