Package: cogeqc Version: 1.2.1 Command: /Library/Frameworks/R.framework/Resources/bin/R CMD INSTALL cogeqc StartedAt: 2023-04-16 15:55:50 -0400 (Sun, 16 Apr 2023) EndedAt: 2023-04-16 15:56:17 -0400 (Sun, 16 Apr 2023) EllapsedTime: 26.6 seconds RetCode: 0 Status: OK