Package: compEpiTools Version: 1.32.0 Command: rm -rf compEpiTools.buildbin-libdir && mkdir compEpiTools.buildbin-libdir && /Users/biocbuild/BBS/utils/build-universal.sh compEpiTools_1.32.0.tar.gz /Library/Frameworks/R.framework/Resources/bin/R compEpiTools.buildbin-libdir StartedAt: 2023-04-18 14:43:38 -0400 (Tue, 18 Apr 2023) EndedAt: 2023-04-18 14:45:49 -0400 (Tue, 18 Apr 2023) EllapsedTime: 130.3 seconds RetCode: 0 Status: OK PackageFile: compEpiTools_1.32.0.tgz PackageFileSize: 2.341 MiB