Package: compartmap Version: 1.16.0 Command: /Library/Frameworks/R.framework/Resources/bin/R CMD INSTALL compartmap StartedAt: 2023-04-16 16:17:07 -0400 (Sun, 16 Apr 2023) EndedAt: 2023-04-16 16:17:51 -0400 (Sun, 16 Apr 2023) EllapsedTime: 44.3 seconds RetCode: 0 Status: OK