Package: consensusDE Version: 1.16.0 Command: /Library/Frameworks/R.framework/Resources/bin/R CMD build --keep-empty-dirs --no-resave-data consensusDE StartedAt: 2023-04-17 01:23:55 -0400 (Mon, 17 Apr 2023) EndedAt: 2023-04-17 01:25:39 -0400 (Mon, 17 Apr 2023) EllapsedTime: 104.0 seconds RetCode: 0 Status: OK PackageFile: consensusDE_1.16.0.tar.gz PackageFileSize: 754.1 KiB