Package: conumee
Version: 1.32.0
Command: /Library/Frameworks/R.framework/Resources/bin/R CMD INSTALL conumee
StartedAt: 2023-04-16 18:19:25 -0400 (Sun, 16 Apr 2023)
EndedAt: 2023-04-16 18:27:59 -0400 (Sun, 16 Apr 2023)
EllapsedTime: 514.1 seconds
RetCode: 0
Status: OK