Package: convert Version: 1.74.0 Command: /Library/Frameworks/R.framework/Resources/bin/R CMD build --keep-empty-dirs --no-resave-data convert StartedAt: 2023-04-17 01:31:49 -0400 (Mon, 17 Apr 2023) EndedAt: 2023-04-17 01:31:58 -0400 (Mon, 17 Apr 2023) EllapsedTime: 8.6 seconds RetCode: 0 Status: OK PackageFile: convert_1.74.0.tar.gz PackageFileSize: 136.7 KiB