Package: crisprViz
Version: 1.0.0
Command: rm -rf crisprViz.buildbin-libdir && mkdir crisprViz.buildbin-libdir && /Users/biocbuild/BBS/utils/build-universal.sh crisprViz_1.0.0.tar.gz /Library/Frameworks/R.framework/Resources/bin/R crisprViz.buildbin-libdir
StartedAt: 2023-04-18 14:55:55 -0400 (Tue, 18 Apr 2023)
EndedAt: 2023-04-18 14:58:18 -0400 (Tue, 18 Apr 2023)
EllapsedTime: 142.1 seconds
RetCode: 0
Status: OK
PackageFile: crisprViz_1.0.0.tgz
PackageFileSize: 1.152 <A href="http://en.wikipedia.org/wiki/MiB" target="_blank">MiB</A>