git_url: https://git.bioconductor.org/packages/cydar git_branch: RELEASE_3_16 git_last_commit: 96c46a2 git_last_commit_date: 2022-11-01 11:15:23 -0400 (Tue, 01 Nov 2022) Package: cydar Version: 1.22.0 Maintainer: Aaron Lun MaintainerEmail: infinite.monkeys.with.keyboards at gmail.com