Package: dStruct Version: 1.4.0 Command: /Library/Frameworks/R.framework/Resources/bin/R CMD build --keep-empty-dirs --no-resave-data dStruct StartedAt: 2023-04-17 04:42:02 -0400 (Mon, 17 Apr 2023) EndedAt: 2023-04-17 04:42:22 -0400 (Mon, 17 Apr 2023) EllapsedTime: 19.8 seconds RetCode: 0 Status: OK PackageFile: dStruct_1.4.0.tar.gz PackageFileSize: 543 KiB