Package: dStruct Version: 1.4.0 Command: /Library/Frameworks/R.framework/Resources/bin/R CMD INSTALL dStruct StartedAt: 2023-04-16 14:38:09 -0400 (Sun, 16 Apr 2023) EndedAt: 2023-04-16 14:38:15 -0400 (Sun, 16 Apr 2023) EllapsedTime: 5.6 seconds RetCode: 0 Status: OK