Package: daMA Version: 1.70.0 Command: /Library/Frameworks/R.framework/Resources/bin/R CMD build --keep-empty-dirs --no-resave-data daMA StartedAt: 2023-04-17 02:36:50 -0400 (Mon, 17 Apr 2023) EndedAt: 2023-04-17 02:36:53 -0400 (Mon, 17 Apr 2023) EllapsedTime: 2.0 seconds RetCode: 0 Status: OK PackageFile: daMA_1.70.0.tar.gz PackageFileSize: 4.026 MiB