Package: dearseq Version: 1.10.0 Command: /Library/Frameworks/R.framework/Resources/bin/R CMD INSTALL dearseq StartedAt: 2023-04-16 14:42:39 -0400 (Sun, 16 Apr 2023) EndedAt: 2023-04-16 14:42:58 -0400 (Sun, 16 Apr 2023) EllapsedTime: 18.4 seconds RetCode: 0 Status: OK