Package: debCAM Version: 1.16.0 Command: /Library/Frameworks/R.framework/Resources/bin/R CMD build --keep-empty-dirs --no-resave-data debCAM StartedAt: 2023-04-17 02:48:10 -0400 (Mon, 17 Apr 2023) EndedAt: 2023-04-17 02:55:42 -0400 (Mon, 17 Apr 2023) EllapsedTime: 451.9 seconds RetCode: 0 Status: OK PackageFile: debCAM_1.16.0.tar.gz PackageFileSize: 3.68 MiB