Package: deco Version: 1.14.0 Command: rm -rf deco.buildbin-libdir && mkdir deco.buildbin-libdir && /Users/biocbuild/BBS/utils/build-universal.sh deco_1.14.0.tar.gz /Library/Frameworks/R.framework/Resources/bin/R deco.buildbin-libdir StartedAt: 2023-04-18 15:06:03 -0400 (Tue, 18 Apr 2023) EndedAt: 2023-04-18 15:07:29 -0400 (Tue, 18 Apr 2023) EllapsedTime: 86.3 seconds RetCode: 0 Status: OK PackageFile: deco_1.14.0.tgz PackageFileSize: 3.489 MiB