Package: deco Version: 1.14.0 Command: /Library/Frameworks/R.framework/Resources/bin/R CMD build --keep-empty-dirs --no-resave-data deco StartedAt: 2023-04-17 02:55:42 -0400 (Mon, 17 Apr 2023) EndedAt: 2023-04-17 02:57:47 -0400 (Mon, 17 Apr 2023) EllapsedTime: 124.8 seconds RetCode: 0 Status: OK PackageFile: deco_1.14.0.tar.gz PackageFileSize: 2.973 MiB