Package: decompTumor2Sig Version: 2.14.0 Command: /Library/Frameworks/R.framework/Resources/bin/R CMD build --keep-empty-dirs --no-resave-data decompTumor2Sig StartedAt: 2023-04-17 02:59:19 -0400 (Mon, 17 Apr 2023) EndedAt: 2023-04-17 03:39:19 -0400 (Mon, 17 Apr 2023) EllapsedTime: 2400.4 seconds RetCode: None Status: TIMEOUT PackageFile: None PackageFileSize: NA