Package: dks Version: 1.44.0 Command: /Library/Frameworks/R.framework/Resources/bin/R CMD build --keep-empty-dirs --no-resave-data dks StartedAt: 2023-04-17 04:14:28 -0400 (Mon, 17 Apr 2023) EndedAt: 2023-04-17 04:14:48 -0400 (Mon, 17 Apr 2023) EllapsedTime: 19.5 seconds RetCode: 0 Status: OK PackageFile: dks_1.44.0.tar.gz PackageFileSize: 600.7 KiB