Package: eegc Version: 1.24.0 Command: /Library/Frameworks/R.framework/Resources/bin/R CMD build --keep-empty-dirs --no-resave-data eegc StartedAt: 2023-04-17 04:57:18 -0400 (Mon, 17 Apr 2023) EndedAt: 2023-04-17 05:04:51 -0400 (Mon, 17 Apr 2023) EllapsedTime: 453.4 seconds RetCode: 0 Status: OK PackageFile: eegc_1.24.0.tar.gz PackageFileSize: 9.37 MiB