Package: enrichplot Version: 1.18.4 Command: rm -rf enrichplot.buildbin-libdir && mkdir enrichplot.buildbin-libdir && /Users/biocbuild/BBS/utils/build-universal.sh enrichplot_1.18.4.tar.gz /Library/Frameworks/R.framework/Resources/bin/R enrichplot.buildbin-libdir StartedAt: 2023-04-18 15:30:09 -0400 (Tue, 18 Apr 2023) EndedAt: 2023-04-18 15:31:16 -0400 (Tue, 18 Apr 2023) EllapsedTime: 66.4 seconds RetCode: 0 Status: OK PackageFile: enrichplot_1.18.4.tgz PackageFileSize: 328.4 KiB