Back to Mac ARM64 build report for BioC 3.16 |
|
This page was generated on 2023-04-19 11:01:48 -0400 (Wed, 19 Apr 2023).
Hostname | OS | Arch (*) | R version | Installed pkgs |
---|---|---|---|---|
kjohnson | macOS 13.0 Ventura | arm64 | 4.2.2 (2022-10-31) -- "Innocent and Trusting" | 4256 |
Click on any hostname to see more info about the system (e.g. compilers) (*) as reported by 'uname -p', except on Windows and Mac OS X |
To the developers/maintainers of the ensembldb package: Make sure to use the following settings in order to reproduce any error or warning you see on this page. |
Package 613/2183 | Hostname | OS / Arch | INSTALL | BUILD | BUILD BIN | ||||||||
ensembldb 2.22.0 (landing page) Johannes Rainer
| kjohnson | macOS 13.0 Ventura / arm64 | OK | OK | OK | ||||||||
QUICK STATS | OS / Arch | INSTALL | BUILD | BUILD BIN | |||||||||||||
kjohnson | macOS 13.0 Ventura / arm64 |
|
|
| |||||||||||||
Package 1/19 | Hostname | OS / Arch | INSTALL | BUILD | BUILD BIN | ||||||||||||
biovizBase 1.46.0 (landing page) Michael Lawrence
| kjohnson | macOS 13.0 Ventura / arm64 | OK | OK | OK | ||||||||||||
Package 2/19 | Hostname | OS / Arch | INSTALL | BUILD | BUILD BIN | ||||||||||||
BUSpaRse 1.12.2 (landing page) Lambda Moses
| kjohnson | macOS 13.0 Ventura / arm64 | OK | OK | OK | ||||||||||||
Package 3/19 | Hostname | OS / Arch | INSTALL | BUILD | BUILD BIN | ||||||||||||
chimeraviz 1.24.0 (landing page) Stian Lågstad
| kjohnson | macOS 13.0 Ventura / arm64 | OK | OK | OK | ||||||||||||
Package 4/19 | Hostname | OS / Arch | INSTALL | BUILD | BUILD BIN | ||||||||||||
ChIPpeakAnno 3.32.0 (landing page) Jianhong Ou
| kjohnson | macOS 13.0 Ventura / arm64 | OK | OK | OK | ||||||||||||
Package 5/19 | Hostname | OS / Arch | INSTALL | BUILD | BUILD BIN | ||||||||||||
consensusDE 1.16.0 (landing page) Ashley J. Waardenberg
| kjohnson | macOS 13.0 Ventura / arm64 | OK | OK | OK | ||||||||||||
Package 6/19 | Hostname | OS / Arch | INSTALL | BUILD | BUILD BIN | ||||||||||||
diffUTR 1.6.0 (landing page) Pierre-Luc Germain
| kjohnson | macOS 13.0 Ventura / arm64 | OK | OK | OK | ||||||||||||
Package 7/19 | Hostname | OS / Arch | INSTALL | BUILD | BUILD BIN | ||||||||||||
drugTargetInteractions 1.6.0 (landing page) Thomas Girke
| kjohnson | macOS 13.0 Ventura / arm64 | OK | OK | OK | ||||||||||||
Package 8/19 | Hostname | OS / Arch | INSTALL | BUILD | BUILD BIN | ||||||||||||
epimutacions 1.2.0 (landing page) Dolors Pelegri-Siso
| kjohnson | macOS 13.0 Ventura / arm64 | OK | OK | OK | ||||||||||||
Package 9/19 | Hostname | OS / Arch | INSTALL | BUILD | BUILD BIN | ||||||||||||
epivizrData 1.26.0 (landing page) Hector Corrada Bravo
| kjohnson | macOS 13.0 Ventura / arm64 | OK | OK | OK | ||||||||||||
Package 10/19 | Hostname | OS / Arch | INSTALL | BUILD | BUILD BIN | ||||||||||||
ggbio 1.46.0 (landing page) Michael Lawrence
| kjohnson | macOS 13.0 Ventura / arm64 | OK | OK | OK | ||||||||||||
Package 11/19 | Hostname | OS / Arch | INSTALL | BUILD | BUILD BIN | ||||||||||||
Gviz 1.42.1 (landing page) Robert Ivanek
| kjohnson | macOS 13.0 Ventura / arm64 | OK | OK | OK | ||||||||||||
Package 12/19 | Hostname | OS / Arch | INSTALL | BUILD | BUILD BIN | ||||||||||||
metagene 2.30.0 (landing page) Charles Joly Beauparlant
| kjohnson | macOS 13.0 Ventura / arm64 | OK | OK | OK | ||||||||||||
Package 13/19 | Hostname | OS / Arch | INSTALL | BUILD | BUILD BIN | ||||||||||||
proteasy 1.0.0 (landing page) Martin Rydén
| kjohnson | macOS 13.0 Ventura / arm64 | OK | OK | OK | ||||||||||||
Package 14/19 | Hostname | OS / Arch | INSTALL | BUILD | BUILD BIN | ||||||||||||
RITAN 1.22.0 (landing page) Michael Zimmermann
| kjohnson | macOS 13.0 Ventura / arm64 | OK | OK | OK | ||||||||||||
Package 15/19 | Hostname | OS / Arch | INSTALL | BUILD | BUILD BIN | ||||||||||||
scanMiRApp 1.4.0 (landing page) Pierre-Luc Germain
| kjohnson | macOS 13.0 Ventura / arm64 | OK | OK | OK | ||||||||||||
Package 16/19 | Hostname | OS / Arch | INSTALL | BUILD | BUILD BIN | ||||||||||||
signifinder 1.0.0 (landing page) Stefania Pirrotta
| kjohnson | macOS 13.0 Ventura / arm64 | OK | OK | OK | ||||||||||||
Package 17/19 | Hostname | OS / Arch | INSTALL | BUILD | BUILD BIN | ||||||||||||
singleCellTK 2.8.0 (landing page) Yichen Wang
| kjohnson | macOS 13.0 Ventura / arm64 | OK | OK | OK | ||||||||||||
Package 18/19 | Hostname | OS / Arch | INSTALL | BUILD | BUILD BIN | ||||||||||||
TVTB 1.24.0 (landing page) Kevin Rue-Albrecht
| kjohnson | macOS 13.0 Ventura / arm64 | OK | OK | OK | ||||||||||||
Package 19/19 | Hostname | OS / Arch | INSTALL | BUILD | BUILD BIN | ||||||||||||
tximeta 1.16.1 (landing page) Michael Love
| kjohnson | macOS 13.0 Ventura / arm64 | OK | OK | OK | ||||||||||||