Package: epidecodeR
Version: 1.6.0
Command: /Library/Frameworks/R.framework/Resources/bin/R CMD build --keep-empty-dirs --no-resave-data epidecodeR
StartedAt: 2023-04-17 05:31:06 -0400 (Mon, 17 Apr 2023)
EndedAt: 2023-04-17 05:32:02 -0400 (Mon, 17 Apr 2023)
EllapsedTime: 56.5 seconds
RetCode: 0
Status: OK
PackageFile: epidecodeR_1.6.0.tar.gz
PackageFileSize: 1.954 <A href="http://en.wikipedia.org/wiki/MiB" target="_blank">MiB</A>