Package: epihet Version: 1.14.0 Command: /Library/Frameworks/R.framework/Resources/bin/R CMD build --keep-empty-dirs --no-resave-data epihet StartedAt: 2023-04-17 05:33:53 -0400 (Mon, 17 Apr 2023) EndedAt: 2023-04-17 05:33:54 -0400 (Mon, 17 Apr 2023) EllapsedTime: 1.2 seconds RetCode: 1 Status: ERROR PackageFile: None PackageFileSize: NA